Workbook

Sheet Saisie résultat dictées
A1: ELEVE 1 Nom Prénom
A2: SEPTEMBRE | B2: Dictée A le présent | C2: Dictée B le futur | D2: Dictée C l'imparfait | E2: Dictée D le passé composé | F2: Dictée E les homophones | G2: Dictée F les accords | H2: Dictée G ortho lexicale | I2: Dictée I : inf. et p. passé
A3: Phrase 1 | K3: 0
A4: Phrase 2 | K4: 1
A5: Phrase 3
A6: Phrase 4
A7: Phrase 5
A8: Phrase 6
A9: Phrase 7
A10: Phrase 8
A11: Phrase 9
A12: Phrase 10
A13: Pourcentage réussite | B13: =SUM(B3:B12)*10 -> 0 | C13: =SUM(C3:C12)*10 -> 0 | D13: =SUM(D3:D12)*10 -> 0 | E13: =SUM(E3:E12)*10 -> 0 | F13: =SUM(F3:F12)*10 -> 0 | G13: =SUM(G3:G12)*10 -> 0 | H13: =SUM(H3:H12)*10 -> 0 | I13: =SUM(I3:I12)*10 -> 0
A15: JUIN | B15: Dictée A le présent | C15: Dictée B le futur | D15: Dictée C l'imparfait | E15: Dictée D le passé composé | F15: Dictée E les homophones | G15: Dictée F les accords | H15: Dictée G ortho lexicale | I15: Dictée I : inf. et p. passé
A16: Phrase 1 | K16: 0
A17: Phrase 2 | K17: 1
A18: Phrase 3
A19: Phrase 4
A20: Phrase 5
A21: Phrase 6
A22: Phrase 7
A23: Phrase 8
A24: Phrase 9
A25: Phrase 10
A26: Pourcentage total | B26: =SUM(B16:B25)*10 -> 0 | C26: =SUM(C16:C25)*10 -> 0 | D26: =SUM(D16:D25)*10 -> 0 | E26: =SUM(E16:E25)*10 -> 0 | F26: =SUM(F16:F25)*10 -> 0 | G26: =SUM(G16:G25)*10 -> 0 | H26: =SUM(H16:H25)*10 -> 0 | I26: =SUM(I16:I25)*10 -> 0
A30: ELEVE 2 Nom Prénom
A31: SEPTEMBRE | B31: Dictée A le présent | C31: Dictée B le futur | D31: Dictée C l'imparfait | E31: Dictée D le passé composé | F31: Dictée E les homophones | G31: Dictée F les accords | H31: Dictée G ortho lexicale | I31: Dictée I : inf. et p. passé
A32: Phrase 1 | K32: 0
A33: Phrase 2 | K33: 1
A34: Phrase 3
A35: Phrase 4
A36: Phrase 5
A37: Phrase 6
A38: Phrase 7
A39: Phrase 8
A40: Phrase 9
A41: Phrase 10
A42: Pourcentage réussite | B42: =SUM(B32:B41)*10 -> 0 | C42: =SUM(C32:C41)*10 -> 0 | D42: =SUM(D32:D41)*10 -> 0 | E42: =SUM(E32:E41)*10 -> 0 | F42: =SUM(F32:F41)*10 -> 0 | G42: =SUM(G32:G41)*10 -> 0 | H42: =SUM(H32:H41)*10 -> 0 | I42: =SUM(I32:I41)*10 -> 0
A44: JUIN | B44: Dictée A le présent | C44: Dictée B le futur | D44: Dictée C l'imparfait | E44: Dictée D le passé composé | F44: Dictée E les homophones | G44: Dictée F les accords | H44: Dictée G ortho lexicale | I44: Dictée I : inf. et p. passé
A45: Phrase 1 | K45: 0
...

Sheet Retour familles septembre
A1: ='Saisie résultat dictées'!A1 -> ELEVE 1 Nom Prénom
A3: Votre enfant a passé une série de dictées afin d'évaluer ses points forts et ses faiblesses dans le domaine
A4: de l'orthographe. Il repassera ces dictées en juin et pourra ainsi mesurer ses progrès.
A5: Voici les pourcentages de réussite qu'il a obtenus.
A7: conjuguer au présent | B7: conjuguer au futur | C7: conjuguer à l'imparfait | D7: conjuguer au passé composé | E7: distinguer les mots homophones | F7: marquer les accords dans le GN | G7: maîtriser l'orthographe lexicale | H7: distinguer l'infinitif et le part. passé
A8: ='Saisie résultat dictées'!B13 -> 0 | B8: ='Saisie résultat dictées'!C13 -> 0 | C8: ='Saisie résultat dictées'!D13 -> 0 | D8: ='Saisie résultat dictées'!E13 -> 0 | E8: ='Saisie résultat dictées'!F13 -> 0 | F8: ='Saisie résultat dictées'!G13 -> 0 | G8: ='Saisie résultat dictées'!H13 -> 0 | H8: ='Saisie résultat dictées'!I13 -> 0
A12: ='Saisie résultat dictées'!A30 -> ELEVE 2 Nom Prénom
A14: Votre enfant a passé une série de dictées afin d'évaluer ses points forts et ses faiblesses dans le domaine
A15: de l'orthographe. Il repassera ces dictées en juin et pourra ainsi mesurer ses progrès.
A16: Voici les pourcentages de réussite qu'il a obtenus.
A18: conjuguer au présent | B18: conjuguer au futur | C18: conjuguer à l'imparfait | D18: conjuguer au passé composé | E18: distinguer les mots homophones | F18: marquer les accords dans le GN | G18: maîtriser l'orthographe lexicale | H18: distinguer l'infinitif et le part. passé
A19: ='Saisie résultat dictées'!B42 -> 0 | B19: ='Saisie résultat dictées'!C42 -> 0 | C19: ='Saisie résultat dictées'!D42 -> 0 | D19: ='Saisie résultat dictées'!E42 -> 0 | E19: ='Saisie résultat dictées'!F42 -> 0 | F19: ='Saisie résultat dictées'!G42 -> 0 | G19: ='Saisie résultat dictées'!H42 -> 0 | H19: ='Saisie résultat dictées'!I42 -> 0
A24: ='Saisie résultat dictées'!A59 -> ELEVE 3 Nom Prénom
A26: Votre enfant a passé une série de dictées afin d'évaluer ses points forts et ses faiblesses dans le domaine
A27: de l'orthographe. Il repassera ces dictées en juin et pourra ainsi mesurer ses progrès.
A28: Voici les pourcentages de réussite qu'il a obtenus.
A30: conjuguer au présent | B30: conjuguer au futur | C30: conjuguer à l'imparfait | D30: conjuguer au passé composé | E30: distinguer les mots homophones | F30: marquer les accords dans le GN | G30: maîtriser l'orthographe lexicale | H30: distinguer l'infinitif et le part. passé
A31: ='Saisie résultat dictées'!B71 -> 0 | B31: ='Saisie résultat dictées'!C71 -> 0 | C31: ='Saisie résultat dictées'!D71 -> 0 | D31: ='Saisie résultat dictées'!E71 -> 0 | E31: ='Saisie résultat dictées'!F71 -> 0 | F31: ='Saisie résultat dictées'!G71 -> 0 | G31: ='Saisie résultat dictées'!H71 -> 0 | H31: ='Saisie résultat dictées'!I71 -> 0
A35: ='Saisie résultat dictées'!A88 -> ELEVE 4 Nom Prénom
A37: Votre enfant a passé une série de dictées afin d'évaluer ses points forts et ses faiblesses dans le domaine
A38: de l'orthographe. Il repassera ces dictées en juin et pourra ainsi mesurer ses progrès.
A39: Voici les pourcentages de réussite qu'il a obtenus.
A41: conjuguer au présent | B41: conjuguer au futur | C41: conjuguer à l'imparfait | D41: conjuguer au passé composé | E41: distinguer les mots homophones | F41: marquer les accords dans le GN | G41: maîtriser l'orthographe lexicale | H41: distinguer l'infinitif et le part. passé
A42: ='Saisie résultat dictées'!B100 -> 0 | B42: ='Saisie résultat dictées'!C100 -> 0 | C42: ='Saisie résultat dictées'!D100 -> 0 | D42: ='Saisie résultat dictées'!E100 -> 0 | E42: ='Saisie résultat dictées'!F100 -> 0 | F42: ='Saisie résultat dictées'!G100 -> 0 | G42: ='Saisie résultat dictées'!H100 -> 0 | H42: ='Saisie résultat dictées'!I100 -> 0
A47: ='Saisie résultat dictées'!A117 -> ELEVE 5 Nom Prénom
A49: Votre enfant a passé une série de dictées afin d'évaluer ses points forts et ses faiblesses dans le domaine
A50: de l'orthographe. Il repassera ces dictées en juin et pourra ainsi mesurer ses progrès.
A51: Voici les pourcentages de réussite qu'il a obtenus.
A53: conjuguer au présent | B53: conjuguer au futur | C53: conjuguer à l'imparfait | D53: conjuguer au passé composé | E53: distinguer les mots homophones | F53: marquer les accords dans le GN | G53: maîtriser l'orthographe lexicale | H53: distinguer l'infinitif et le part. passé
A54: ='Saisie résultat dictées'!B129 -> 0 | B54: ='Saisie résultat dictées'!C129 -> 0 | C54: ='Saisie résultat dictées'!D129 -> 0 | D54: ='Saisie résultat dictées'!E129 -> 0 | E54: ='Saisie résultat dictées'!F129 -> 0 | F54: ='Saisie résultat dictées'!G129 -> 0 | G54: ='Saisie résultat dictées'!H129 -> 0 | H54: ='Saisie résultat dictées'!I129 -> 0
A58: ='Saisie résultat dictées'!A146 -> ELEVE 6 Nom Prénom
A60: Votre enfant a passé une série de dictées afin d'évaluer ses points forts et ses faiblesses dans le domaine
A61: de l'orthographe. Il repassera ces dictées en juin et pourra ainsi mesurer ses progrès.
A62: Voici les pourcentages de réussite qu'il a obtenus.
A64: conjuguer au présent | B64: conjuguer au futur | C64: conjuguer à l'imparfait | D64: conjuguer au passé composé | E64: distinguer les mots homophones | F64: marquer les accords dans le GN | G64: maîtriser l'orthographe lexicale | H64: distinguer l'infinitif et le part. passé
A65: ='Saisie résultat dictées'!B158 -> 0 | B65: ='Saisie résultat dictées'!C158 -> 0 | C65: ='Saisie résultat dictées'!D158 -> 0 | D65: ='Saisie résultat dictées'!E158 -> 0 | E65: ='Saisie résultat dictées'!F158 -> 0 | F65: ='Saisie résultat dictées'!G158 -> 0 | G65: ='Saisie résultat dictées'!H158 -> 0 | H65: ='Saisie résultat dictées'!I158 -> 0
A70: ='Saisie résultat dictées'!A175 -> ELEVE 7 Nom Prénom
A72: Votre enfant a passé une série de dictées afin d'évaluer ses points forts et ses faiblesses dans le domaine
A73: de l'orthographe. Il repassera ces dictées en juin et pourra ainsi mesurer ses progrès.
A74: Voici les pourcentages de réussite qu'il a obtenus.
...

Sheet Retour familles juin
A1: ='Saisie résultat dictées'!A1 -> ELEVE 1 Nom Prénom
A3: Votre enfant a passé une série de dictées afin d'évaluer ses points forts et ses faiblesses dans le domaine
A4: de l'orthographe. Il avait déjà réalisé ces dictées en septembre.
A5: Voici les pourcentages de réussite qu'il a obtenus ainsi que son évolution.
A7: conjuguer au présent | B7: conjuguer au futur | C7: conjuguer à l'imparfait | D7: conjuguer au passé composé | E7: distinguer les mots homophones | F7: marquer les accords dans le GN | G7: maîtriser l'orthographe lexicale | H7: conjuguer au présent | I7: distinguer l'infinitif et le part. passé
A8: ='Saisie résultat dictées'!B13 -> 0 | B8: ='Saisie résultat dictées'!C13 -> 0 | C8: ='Saisie résultat dictées'!D13 -> 0 | D8: ='Saisie résultat dictées'!E13 -> 0 | E8: ='Saisie résultat dictées'!F13 -> 0 | F8: ='Saisie résultat dictées'!G13 -> 0 | G8: ='Saisie résultat dictées'!H13 -> 0 | H8: ='Saisie résultat dictées'!I13 -> 0 | I8: ='Saisie résultat dictées'!J13 -> 0 | J8: Septembre
A9: ='Saisie résultat dictées'!B26 -> 0 | B9: ='Saisie résultat dictées'!C26 -> 0 | C9: ='Saisie résultat dictées'!D26 -> 0 | D9: ='Saisie résultat dictées'!E26 -> 0 | E9: ='Saisie résultat dictées'!F26 -> 0 | F9: ='Saisie résultat dictées'!G26 -> 0 | G9: ='Saisie résultat dictées'!H26 -> 0 | H9: ='Saisie résultat dictées'!I26 -> 0 | I9: ='Saisie résultat dictées'!J26 -> 0 | J9: Juin
A10: =A9-A8 -> 0 | B10: =B9-B8 -> 0 | C10: =C9-C8 -> 0 | D10: =D9-D8 -> 0 | E10: =E9-E8 -> 0 | F10: =F9-F8 -> 0 | G10: =G9-G8 -> 0 | H10: =H9-H8 -> 0 | I10: =I9-I8 -> 0 | J10: Evolution
A14: ='Saisie résultat dictées'!A30 -> ELEVE 2 Nom Prénom
A16: Votre enfant a passé une série de dictées afin d'évaluer ses points forts et ses faiblesses dans le domaine
A17: de l'orthographe. Il avait déjà réalisé ces dictées en septembre.
A18: Voici les pourcentages de réussite qu'il a obtenus ainsi que son évolution.
A20: conjuguer au présent | B20: conjuguer au futur | C20: conjuguer à l'imparfait | D20: conjuguer au passé composé | E20: distinguer les mots homophones | F20: marquer les accords dans le GN | G20: maîtriser l'orthographe lexicale | H20: conjuguer au présent | I20: distinguer l'infinitif et le part. passé
A21: ='Saisie résultat dictées'!B42 -> 0 | B21: ='Saisie résultat dictées'!C42 -> 0 | C21: ='Saisie résultat dictées'!D42 -> 0 | D21: ='Saisie résultat dictées'!E42 -> 0 | E21: ='Saisie résultat dictées'!F42 -> 0 | F21: ='Saisie résultat dictées'!G42 -> 0 | G21: ='Saisie résultat dictées'!H42 -> 0 | H21: ='Saisie résultat dictées'!I42 -> 0 | I21: ='Saisie résultat dictées'!J42 -> 0 | J21: Septembre
A22: ='Saisie résultat dictées'!B55 -> 0 | B22: ='Saisie résultat dictées'!C55 -> 0 | C22: ='Saisie résultat dictées'!D55 -> 0 | D22: ='Saisie résultat dictées'!E55 -> 0 | E22: ='Saisie résultat dictées'!F55 -> 0 | F22: ='Saisie résultat dictées'!G55 -> 0 | G22: ='Saisie résultat dictées'!H55 -> 0 | H22: ='Saisie résultat dictées'!I55 -> 0 | I22: ='Saisie résultat dictées'!J55 -> 0 | J22: Juin
A23: =A22-A21 -> 0 | B23: =B22-B21 -> 0 | C23: =C22-C21 -> 0 | D23: =D22-D21 -> 0 | E23: =E22-E21 -> 0 | F23: =F22-F21 -> 0 | G23: =G22-G21 -> 0 | H23: =H22-H21 -> 0 | I23: =I22-I21 -> 0 | J23: Evolution
A28: ='Saisie résultat dictées'!A59 -> ELEVE 3 Nom Prénom
A30: Votre enfant a passé une série de dictées afin d'évaluer ses points forts et ses faiblesses dans le domaine
A31: de l'orthographe. Il avait déjà réalisé ces dictées en septembre.
A32: Voici les pourcentages de réussite qu'il a obtenus ainsi que son évolution.
A34: conjuguer au présent | B34: conjuguer au futur | C34: conjuguer à l'imparfait | D34: conjuguer au passé composé | E34: distinguer les mots homophones | F34: marquer les accords dans le GN | G34: maîtriser l'orthographe lexicale | H34: conjuguer au présent | I34: distinguer l'infinitif et le part. passé
A35: ='Saisie résultat dictées'!B71 -> 0 | B35: ='Saisie résultat dictées'!C71 -> 0 | C35: ='Saisie résultat dictées'!D71 -> 0 | D35: ='Saisie résultat dictées'!E71 -> 0 | E35: ='Saisie résultat dictées'!F71 -> 0 | F35: ='Saisie résultat dictées'!G71 -> 0 | G35: ='Saisie résultat dictées'!H71 -> 0 | H35: ='Saisie résultat dictées'!I71 -> 0 | I35: ='Saisie résultat dictées'!J71 -> 0 | J35: Septembre
A36: ='Saisie résultat dictées'!B84 -> 0 | B36: ='Saisie résultat dictées'!C84 -> 0 | C36: ='Saisie résultat dictées'!D84 -> 0 | D36: ='Saisie résultat dictées'!E84 -> 0 | E36: ='Saisie résultat dictées'!F84 -> 0 | F36: ='Saisie résultat dictées'!G84 -> 0 | G36: ='Saisie résultat dictées'!H84 -> 0 | H36: ='Saisie résultat dictées'!I84 -> 0 | I36: ='Saisie résultat dictées'!J84 -> 0 | J36: Juin
A37: =A36-A35 -> 0 | B37: =B36-B35 -> 0 | C37: =C36-C35 -> 0 | D37: =D36-D35 -> 0 | E37: =E36-E35 -> 0 | F37: =F36-F35 -> 0 | G37: =G36-G35 -> 0 | H37: =H36-H35 -> 0 | I37: =I36-I35 -> 0 | J37: Evolution
A41: ='Saisie résultat dictées'!A88 -> ELEVE 4 Nom Prénom
A43: Votre enfant a passé une série de dictées afin d'évaluer ses points forts et ses faiblesses dans le domaine
A44: de l'orthographe. Il avait déjà réalisé ces dictées en septembre.
A45: Voici les pourcentages de réussite qu'il a obtenus ainsi que son évolution.
A47: conjuguer au présent | B47: conjuguer au futur | C47: conjuguer à l'imparfait | D47: conjuguer au passé composé | E47: distinguer les mots homophones | F47: marquer les accords dans le GN | G47: maîtriser l'orthographe lexicale | H47: conjuguer au présent | I47: distinguer l'infinitif et le part. passé
A48: ='Saisie résultat dictées'!B100 -> 0 | B48: ='Saisie résultat dictées'!C100 -> 0 | C48: ='Saisie résultat dictées'!D100 -> 0 | D48: ='Saisie résultat dictées'!E100 -> 0 | E48: ='Saisie résultat dictées'!F100 -> 0 | F48: ='Saisie résultat dictées'!G100 -> 0 | G48: ='Saisie résultat dictées'!H100 -> 0 | H48: ='Saisie résultat dictées'!I100 -> 0 | I48: ='Saisie résultat dictées'!J100 -> 0 | J48: Septembre
A49: ='Saisie résultat dictées'!B113 -> 0 | B49: ='Saisie résultat dictées'!C113 -> 0 | C49: ='Saisie résultat dictées'!D113 -> 0 | D49: ='Saisie résultat dictées'!E113 -> 0 | E49: ='Saisie résultat dictées'!F113 -> 0 | F49: ='Saisie résultat dictées'!G113 -> 0 | G49: ='Saisie résultat dictées'!H113 -> 0 | H49: ='Saisie résultat dictées'!I113 -> 0 | I49: ='Saisie résultat dictées'!J113 -> 0 | J49: Juin
A50: =A49-A48 -> 0 | B50: =B49-B48 -> 0 | C50: =C49-C48 -> 0 | D50: =D49-D48 -> 0 | E50: =E49-E48 -> 0 | F50: =F49-F48 -> 0 | G50: =G49-G48 -> 0 | H50: =H49-H48 -> 0 | I50: =I49-I48 -> 0 | J50: Evolution
A55: ='Saisie résultat dictées'!A117 -> ELEVE 5 Nom Prénom
A57: Votre enfant a passé une série de dictées afin d'évaluer ses points forts et ses faiblesses dans le domaine
A58: de l'orthographe. Il avait déjà réalisé ces dictées en septembre.
A59: Voici les pourcentages de réussite qu'il a obtenus ainsi que son évolution.
A61: conjuguer au présent | B61: conjuguer au futur | C61: conjuguer à l'imparfait | D61: conjuguer au passé composé | E61: distinguer les mots homophones | F61: marquer les accords dans le GN | G61: maîtriser l'orthographe lexicale | H61: conjuguer au présent | I61: distinguer l'infinitif et le part. passé
A62: ='Saisie résultat dictées'!B129 -> 0 | B62: ='Saisie résultat dictées'!C129 -> 0 | C62: ='Saisie résultat dictées'!D129 -> 0 | D62: ='Saisie résultat dictées'!E129 -> 0 | E62: ='Saisie résultat dictées'!F129 -> 0 | F62: ='Saisie résultat dictées'!G129 -> 0 | G62: ='Saisie résultat dictées'!H129 -> 0 | H62: ='Saisie résultat dictées'!I129 -> 0 | I62: ='Saisie résultat dictées'!J129 -> 0 | J62: Septembre
A63: ='Saisie résultat dictées'!B142 -> 0 | B63: ='Saisie résultat dictées'!C142 -> 0 | C63: ='Saisie résultat dictées'!D142 -> 0 | D63: ='Saisie résultat dictées'!E142 -> 0 | E63: ='Saisie résultat dictées'!F142 -> 0 | F63: ='Saisie résultat dictées'!G142 -> 0 | G63: ='Saisie résultat dictées'!H142 -> 0 | H63: ='Saisie résultat dictées'!I142 -> 0 | I63: ='Saisie résultat dictées'!J142 -> 0 | J63: Juin
A64: =A63-A62 -> 0 | B64: =B63-B62 -> 0 | C64: =C63-C62 -> 0 | D64: =D63-D62 -> 0 | E64: =E63-E62 -> 0 | F64: =F63-F62 -> 0 | G64: =G63-G62 -> 0 | H64: =H63-H62 -> 0 | I64: =I63-I62 -> 0 | J64: Evolution
...
