Workbook

Sheet Saisie résultat dictées
A1: ELEVE 1 Nom Prénom
A2: SEPTEMBRE | B2: Dictée A le présent | C2: Dictée B le futur | D2: Dictée C l'imparfait | E2: Dictée D le passé composé | F2: Dictée E les homophones | G2: Dictée F les accords | H2: Dictée G ortho lexicale | I2: Dictée I : inf. et p. passé
A3: Phrase 1 | K3: 0
A4: Phrase 2 | K4: 1
A5: Phrase 3
A6: Phrase 4
A7: Phrase 5
A8: Phrase 6
A9: Phrase 7
A10: Phrase 8
A11: Phrase 9
A12: Phrase 10
A13: Pourcentage réussite | B13: =SUM(B3:B12)*10 -> 0 | C13: =SUM(C3:C12)*10 -> 0 | D13: =SUM(D3:D12)*10 -> 0 | E13: =SUM(E3:E12)*10 -> 0 | F13: =SUM(F3:F12)*10 -> 0 | G13: =SUM(G3:G12)*10 -> 0 | H13: =SUM(H3:H12)*10 -> 0 | I13: =SUM(I3:I12)*10 -> 0
A15: JUIN | B15: Dictée A le présent | C15: Dictée B le futur | D15: Dictée C l'imparfait | E15: Dictée D le passé composé | F15: Dictée E les homophones | G15: Dictée F les accords | H15: Dictée G ortho lexicale | I15: Dictée I : inf. et p. passé
A16: Phrase 1 | K16: 0
A17: Phrase 2 | K17: 1
A18: Phrase 3
A19: Phrase 4
A20: Phrase 5
A21: Phrase 6
A22: Phrase 7
A23: Phrase 8
A24: Phrase 9
A25: Phrase 10
A26: Pourcentage total | B26: =SUM(B16:B25)*10 -> 0 | C26: =SUM(C16:C25)*10 -> 0 | D26: =SUM(D16:D25)*10 -> 0 | E26: =SUM(E16:E25)*10 -> 0 | F26: =SUM(F16:F25)*10 -> 0 | G26: =SUM(G16:G25)*10 -> 0 | H26: =SUM(H16:H25)*10 -> 0 | I26: =SUM(I16:I25)*10 -> 0
A30: ELEVE 2 Nom Prénom
A31: SEPTEMBRE | B31: Dictée A le présent | C31: Dictée B le futur | D31: Dictée C l'imparfait | E31: Dictée D le passé composé | F31: Dictée E les homophones | G31: Dictée F les accords | H31: Dictée G ortho lexicale | I31: Dictée I : inf. et p. passé
A32: Phrase 1 | K32: 0
A33: Phrase 2 | K33: 1
A34: Phrase 3
A35: Phrase 4
A36: Phrase 5
A37: Phrase 6
A38: Phrase 7
A39: Phrase 8
A40: Phrase 9
A41: Phrase 10
A42: Pourcentage réussite | B42: =SUM(B32:B41)*10 -> 0 | C42: =SUM(C32:C41)*10 -> 0 | D42: =SUM(D32:D41)*10 -> 0 | E42: =SUM(E32:E41)*10 -> 0 | F42: =SUM(F32:F41)*10 -> 0 | G42: =SUM(G32:G41)*10 -> 0 | H42: =SUM(H32:H41)*10 -> 0 | I42: =SUM(I32:I41)*10 -> 0
A44: JUIN | B44: Dictée A le présent | C44: Dictée B le futur | D44: Dictée C l'imparfait | E44: Dictée D le passé composé | F44: Dictée E les homophones | G44: Dictée F les accords | H44: Dictée G ortho lexicale | I44: Dictée I : inf. et p. passé
A45: Phrase 1 | K45: 0
A46: Phrase 2 | K46: 1
A47: Phrase 3
A48: Phrase 4
A49: Phrase 5
A50: Phrase 6
A51: Phrase 7
A52: Phrase 8
A53: Phrase 9
A54: Phrase 10
A55: Pourcentage total | B55: =SUM(B45:B54)*10 -> 0 | C55: =SUM(C45:C54)*10 -> 0 | D55: =SUM(D45:D54)*10 -> 0 | E55: =SUM(E45:E54)*10 -> 0 | F55: =SUM(F45:F54)*10 -> 0 | G55: =SUM(G45:G54)*10 -> 0 | H55: =SUM(H45:H54)*10 -> 0 | I55: =SUM(I45:I54)*10 -> 0
A59: ELEVE 3 Nom Prénom
A60: SEPTEMBRE | B60: Dictée A le présent | C60: Dictée B le futur | D60: Dictée C l'imparfait | E60: Dictée D le passé composé | F60: Dictée E les homophones | G60: Dictée F les accords | H60: Dictée G ortho lexicale | I60: Dictée I : inf. et p. passé
A61: Phrase 1 | K61: 0
A62: Phrase 2 | K62: 1
A63: Phrase 3
A64: Phrase 4
A65: Phrase 5
A66: Phrase 6
A67: Phrase 7
A68: Phrase 8
A69: Phrase 9
A70: Phrase 10
A71: Pourcentage réussite | B71: =SUM(B61:B70)*10 -> 0 | C71: =SUM(C61:C70)*10 -> 0 | D71: =SUM(D61:D70)*10 -> 0 | E71: =SUM(E61:E70)*10 -> 0 | F71: =SUM(F61:F70)*10 -> 0 | G71: =SUM(G61:G70)*10 -> 0 | H71: =SUM(H61:H70)*10 -> 0 | I71: =SUM(I61:I70)*10 -> 0
A73: JUIN | B73: Dictée A le présent | C73: Dictée B le futur | D73: Dictée C l'imparfait | E73: Dictée D le passé composé | F73: Dictée E les homophones | G73: Dictée F les accords | H73: Dictée G ortho lexicale | I73: Dictée I : inf. et p. passé
A74: Phrase 1 | K74: 0
A75: Phrase 2 | K75: 1
A76: Phrase 3
A77: Phrase 4
A78: Phrase 5
A79: Phrase 6
A80: Phrase 7
A81: Phrase 8
A82: Phrase 9
A83: Phrase 10
A84: Pourcentage total | B84: =SUM(B74:B83)*10 -> 0 | C84: =SUM(C74:C83)*10 -> 0 | D84: =SUM(D74:D83)*10 -> 0 | E84: =SUM(E74:E83)*10 -> 0 | F84: =SUM(F74:F83)*10 -> 0 | G84: =SUM(G74:G83)*10 -> 0 | H84: =SUM(H74:H83)*10 -> 0 | I84: =SUM(I74:I83)*10 -> 0
A88: ELEVE 4 Nom Prénom
A89: SEPTEMBRE | B89: Dictée A le présent | C89: Dictée B le futur | D89: Dictée C l'imparfait | E89: Dictée D le passé composé | F89: Dictée E les homophones | G89: Dictée F les accords | H89: Dictée G ortho lexicale | I89: Dictée I : inf. et p. passé
A90: Phrase 1 | K90: 0
A91: Phrase 2 | K91: 1
A92: Phrase 3
A93: Phrase 4
A94: Phrase 5
A95: Phrase 6
A96: Phrase 7
A97: Phrase 8
A98: Phrase 9
A99: Phrase 10
A100: Pourcentage réussite | B100: =SUM(B90:B99)*10 -> 0 | C100: =SUM(C90:C99)*10 -> 0 | D100: =SUM(D90:D99)*10 -> 0 | E100: =SUM(E90:E99)*10 -> 0 | F100: =SUM(F90:F99)*10 -> 0 | G100: =SUM(G90:G99)*10 -> 0 | H100: =SUM(H90:H99)*10 -> 0 | I100: =SUM(I90:I99)*10 -> 0
A102: JUIN | B102: Dictée A le présent | C102: Dictée B le futur | D102: Dictée C l'imparfait | E102: Dictée D le passé composé | F102: Dictée E les homophones | G102: Dictée F les accords | H102: Dictée G ortho lexicale | I102: Dictée I : inf. et p. passé
A103: Phrase 1 | K103: 0
A104: Phrase 2 | K104: 1
A105: Phrase 3
A106: Phrase 4
A107: Phrase 5
A108: Phrase 6
A109: Phrase 7
A110: Phrase 8
A111: Phrase 9
A112: Phrase 10
A113: Pourcentage total | B113: =SUM(B103:B112)*10 -> 0 | C113: =SUM(C103:C112)*10 -> 0 | D113: =SUM(D103:D112)*10 -> 0 | E113: =SUM(E103:E112)*10 -> 0 | F113: =SUM(F103:F112)*10 -> 0 | G113: =SUM(G103:G112)*10 -> 0 | H113: =SUM(H103:H112)*10 -> 0 | I113: =SUM(I103:I112)*10 -> 0
...

Sheet Retour familles septembre
A1: ='Saisie résultat dictées'!A1 -> ELEVE 1 Nom Prénom
A3: Votre enfant a passé une série de dictées afin d'évaluer ses points forts et ses faiblesses dans le domaine
A4: de l'orthographe. Il repassera ces dictées en juin et pourra ainsi mesurer ses progrès.
A5: Voici les pourcentages de réussite qu'il a obtenus.
A7: conjuguer au présent | B7: conjuguer au futur | C7: conjuguer à l'imparfait | D7: conjuguer au passé composé | E7: distinguer les mots homophones | F7: marquer les accords dans le GN | G7: maîtriser l'orthographe lexicale | H7: distinguer l'infinitif et le part. passé
A8: ='Saisie résultat dictées'!B13 -> 0 | B8: ='Saisie résultat dictées'!C13 -> 0 | C8: ='Saisie résultat dictées'!D13 -> 0 | D8: ='Saisie résultat dictées'!E13 -> 0 | E8: ='Saisie résultat dictées'!F13 -> 0 | F8: ='Saisie résultat dictées'!G13 -> 0 | G8: ='Saisie résultat dictées'!H13 -> 0 | H8: ='Saisie résultat dictées'!I13 -> 0
A12: ='Saisie résultat dictées'!A30 -> ELEVE 2 Nom Prénom
A14: Votre enfant a passé une série de dictées afin d'évaluer ses points forts et ses faiblesses dans le domaine
A15: de l'orthographe. Il repassera ces dictées en juin et pourra ainsi mesurer ses progrès.
A16: Voici les pourcentages de réussite qu'il a obtenus.
A18: conjuguer au présent | B18: conjuguer au futur | C18: conjuguer à l'imparfait | D18: conjuguer au passé composé | E18: distinguer les mots homophones | F18: marquer les accords dans le GN | G18: maîtriser l'orthographe lexicale | H18: distinguer l'infinitif et le part. passé
A19: ='Saisie résultat dictées'!B42 -> 0 | B19: ='Saisie résultat dictées'!C42 -> 0 | C19: ='Saisie résultat dictées'!D42 -> 0 | D19: ='Saisie résultat dictées'!E42 -> 0 | E19: ='Saisie résultat dictées'!F42 -> 0 | F19: ='Saisie résultat dictées'!G42 -> 0 | G19: ='Saisie résultat dictées'!H42 -> 0 | H19: ='Saisie résultat dictées'!I42 -> 0
A24: ='Saisie résultat dictées'!A59 -> ELEVE 3 Nom Prénom
A26: Votre enfant a passé une série de dictées afin d'évaluer ses points forts et ses faiblesses dans le domaine
A27: de l'orthographe. Il repassera ces dictées en juin et pourra ainsi mesurer ses progrès.
A28: Voici les pourcentages de réussite qu'il a obtenus.
A30: conjuguer au présent | B30: conjuguer au futur | C30: conjuguer à l'imparfait | D30: conjuguer au passé composé | E30: distinguer les mots homophones | F30: marquer les accords dans le GN | G30: maîtriser l'orthographe lexicale | H30: distinguer l'infinitif et le part. passé
A31: ='Saisie résultat dictées'!B71 -> 0 | B31: ='Saisie résultat dictées'!C71 -> 0 | C31: ='Saisie résultat dictées'!D71 -> 0 | D31: ='Saisie résultat dictées'!E71 -> 0 | E31: ='Saisie résultat dictées'!F71 -> 0 | F31: ='Saisie résultat dictées'!G71 -> 0 | G31: ='Saisie résultat dictées'!H71 -> 0 | H31: ='Saisie résultat dictées'!I71 -> 0
A35: ='Saisie résultat dictées'!A88 -> ELEVE 4 Nom Prénom
A37: Votre enfant a passé une série de dictées afin d'évaluer ses points forts et ses faiblesses dans le domaine
A38: de l'orthographe. Il repassera ces dictées en juin et pourra ainsi mesurer ses progrès.
A39: Voici les pourcentages de réussite qu'il a obtenus.
A41: conjuguer au présent | B41: conjuguer au futur | C41: conjuguer à l'imparfait | D41: conjuguer au passé composé | E41: distinguer les mots homophones | F41: marquer les accords dans le GN | G41: maîtriser l'orthographe lexicale | H41: distinguer l'infinitif et le part. passé
A42: ='Saisie résultat dictées'!B100 -> 0 | B42: ='Saisie résultat dictées'!C100 -> 0 | C42: ='Saisie résultat dictées'!D100 -> 0 | D42: ='Saisie résultat dictées'!E100 -> 0 | E42: ='Saisie résultat dictées'!F100 -> 0 | F42: ='Saisie résultat dictées'!G100 -> 0 | G42: ='Saisie résultat dictées'!H100 -> 0 | H42: ='Saisie résultat dictées'!I100 -> 0
A47: ='Saisie résultat dictées'!A117 -> ELEVE 5 Nom Prénom
A49: Votre enfant a passé une série de dictées afin d'évaluer ses points forts et ses faiblesses dans le domaine
A50: de l'orthographe. Il repassera ces dictées en juin et pourra ainsi mesurer ses progrès.
A51: Voici les pourcentages de réussite qu'il a obtenus.
A53: conjuguer au présent | B53: conjuguer au futur | C53: conjuguer à l'imparfait | D53: conjuguer au passé composé | E53: distinguer les mots homophones | F53: marquer les accords dans le GN | G53: maîtriser l'orthographe lexicale | H53: distinguer l'infinitif et le part. passé
A54: ='Saisie résultat dictées'!B129 -> 0 | B54: ='Saisie résultat dictées'!C129 -> 0 | C54: ='Saisie résultat dictées'!D129 -> 0 | D54: ='Saisie résultat dictées'!E129 -> 0 | E54: ='Saisie résultat dictées'!F129 -> 0 | F54: ='Saisie résultat dictées'!G129 -> 0 | G54: ='Saisie résultat dictées'!H129 -> 0 | H54: ='Saisie résultat dictées'!I129 -> 0
A58: ='Saisie résultat dictées'!A146 -> ELEVE 6 Nom Prénom
A60: Votre enfant a passé une série de dictées afin d'évaluer ses points forts et ses faiblesses dans le domaine
A61: de l'orthographe. Il repassera ces dictées en juin et pourra ainsi mesurer ses progrès.
A62: Voici les pourcentages de réussite qu'il a obtenus.
A64: conjuguer au présent | B64: conjuguer au futur | C64: conjuguer à l'imparfait | D64: conjuguer au passé composé | E64: distinguer les mots homophones | F64: marquer les accords dans le GN | G64: maîtriser l'orthographe lexicale | H64: distinguer l'infinitif et le part. passé
A65: ='Saisie résultat dictées'!B158 -> 0 | B65: ='Saisie résultat dictées'!C158 -> 0 | C65: ='Saisie résultat dictées'!D158 -> 0 | D65: ='Saisie résultat dictées'!E158 -> 0 | E65: ='Saisie résultat dictées'!F158 -> 0 | F65: ='Saisie résultat dictées'!G158 -> 0 | G65: ='Saisie résultat dictées'!H158 -> 0 | H65: ='Saisie résultat dictées'!I158 -> 0
A70: ='Saisie résultat dictées'!A175 -> ELEVE 7 Nom Prénom
A72: Votre enfant a passé une série de dictées afin d'évaluer ses points forts et ses faiblesses dans le domaine
A73: de l'orthographe. Il repassera ces dictées en juin et pourra ainsi mesurer ses progrès.
A74: Voici les pourcentages de réussite qu'il a obtenus.
A76: conjuguer au présent | B76: conjuguer au futur | C76: conjuguer à l'imparfait | D76: conjuguer au passé composé | E76: distinguer les mots homophones | F76: marquer les accords dans le GN | G76: maîtriser l'orthographe lexicale | H76: distinguer l'infinitif et le part. passé
A77: ='Saisie résultat dictées'!B187 -> 0 | B77: ='Saisie résultat dictées'!C187 -> 0 | C77: ='Saisie résultat dictées'!D187 -> 0 | D77: ='Saisie résultat dictées'!E187 -> 0 | E77: ='Saisie résultat dictées'!F187 -> 0 | F77: ='Saisie résultat dictées'!G187 -> 0 | G77: ='Saisie résultat dictées'!H187 -> 0 | H77: ='Saisie résultat dictées'!I187 -> 0
A81: ='Saisie résultat dictées'!A204 -> ELEVE 8 Nom Prénom
A83: Votre enfant a passé une série de dictées afin d'évaluer ses points forts et ses faiblesses dans le domaine
A84: de l'orthographe. Il repassera ces dictées en juin et pourra ainsi mesurer ses progrès.
A85: Voici les pourcentages de réussite qu'il a obtenus.
A87: conjuguer au présent | B87: conjuguer au futur | C87: conjuguer à l'imparfait | D87: conjuguer au passé composé | E87: distinguer les mots homophones | F87: marquer les accords dans le GN | G87: maîtriser l'orthographe lexicale | H87: distinguer l'infinitif et le part. passé
A88: ='Saisie résultat dictées'!B216 -> 0 | B88: ='Saisie résultat dictées'!C216 -> 0 | C88: ='Saisie résultat dictées'!D216 -> 0 | D88: ='Saisie résultat dictées'!E216 -> 0 | E88: ='Saisie résultat dictées'!F216 -> 0 | F88: ='Saisie résultat dictées'!G216 -> 0 | G88: ='Saisie résultat dictées'!H216 -> 0 | H88: ='Saisie résultat dictées'!I216 -> 0
A93: ='Saisie résultat dictées'!A233 -> ELEVE 9 Nom Prénom
A95: Votre enfant a passé une série de dictées afin d'évaluer ses points forts et ses faiblesses dans le domaine
A96: de l'orthographe. Il repassera ces dictées en juin et pourra ainsi mesurer ses progrès.
A97: Voici les pourcentages de réussite qu'il a obtenus.
A99: conjuguer au présent | B99: conjuguer au futur | C99: conjuguer à l'imparfait | D99: conjuguer au passé composé | E99: distinguer les mots homophones | F99: marquer les accords dans le GN | G99: maîtriser l'orthographe lexicale | H99: distinguer l'infinitif et le part. passé
A100: ='Saisie résultat dictées'!B245 -> 0 | B100: ='Saisie résultat dictées'!C245 -> 0 | C100: ='Saisie résultat dictées'!D245 -> 0 | D100: ='Saisie résultat dictées'!E245 -> 0 | E100: ='Saisie résultat dictées'!F245 -> 0 | F100: ='Saisie résultat dictées'!G245 -> 0 | G100: ='Saisie résultat dictées'!H245 -> 0 | H100: ='Saisie résultat dictées'!I245 -> 0
A104: ='Saisie résultat dictées'!A262 -> ELEVE 10 Nom Prénom
A106: Votre enfant a passé une série de dictées afin d'évaluer ses points forts et ses faiblesses dans le domaine
A107: de l'orthographe. Il repassera ces dictées en juin et pourra ainsi mesurer ses progrès.
A108: Voici les pourcentages de réussite qu'il a obtenus.
A110: conjuguer au présent | B110: conjuguer au futur | C110: conjuguer à l'imparfait | D110: conjuguer au passé composé | E110: distinguer les mots homophones | F110: marquer les accords dans le GN | G110: maîtriser l'orthographe lexicale | H110: distinguer l'infinitif et le part. passé
A111: ='Saisie résultat dictées'!B274 -> 0 | B111: ='Saisie résultat dictées'!C274 -> 0 | C111: ='Saisie résultat dictées'!D274 -> 0 | D111: ='Saisie résultat dictées'!E274 -> 0 | E111: ='Saisie résultat dictées'!F274 -> 0 | F111: ='Saisie résultat dictées'!G274 -> 0 | G111: ='Saisie résultat dictées'!H274 -> 0 | H111: ='Saisie résultat dictées'!I274 -> 0
A116: ='Saisie résultat dictées'!A291 -> ELEVE 11 Nom Prénom
A118: Votre enfant a passé une série de dictées afin d'évaluer ses points forts et ses faiblesses dans le domaine
A119: de l'orthographe. Il repassera ces dictées en juin et pourra ainsi mesurer ses progrès.
A120: Voici les pourcentages de réussite qu'il a obtenus.
A122: conjuguer au présent | B122: conjuguer au futur | C122: conjuguer à l'imparfait | D122: conjuguer au passé composé | E122: distinguer les mots homophones | F122: marquer les accords dans le GN | G122: maîtriser l'orthographe lexicale | H122: distinguer l'infinitif et le part. passé
A123: ='Saisie résultat dictées'!B303 -> 0 | B123: ='Saisie résultat dictées'!C303 -> 0 | C123: ='Saisie résultat dictées'!D303 -> 0 | D123: ='Saisie résultat dictées'!E303 -> 0 | E123: ='Saisie résultat dictées'!F303 -> 0 | F123: ='Saisie résultat dictées'!G303 -> 0 | G123: ='Saisie résultat dictées'!H303 -> 0 | H123: ='Saisie résultat dictées'!I303 -> 0
A127: ='Saisie résultat dictées'!A320 -> ELEVE 12 Nom Prénom
A129: Votre enfant a passé une série de dictées afin d'évaluer ses points forts et ses faiblesses dans le domaine
A130: de l'orthographe. Il repassera ces dictées en juin et pourra ainsi mesurer ses progrès.
A131: Voici les pourcentages de réussite qu'il a obtenus.
A133: conjuguer au présent | B133: conjuguer au futur | C133: conjuguer à l'imparfait | D133: conjuguer au passé composé | E133: distinguer les mots homophones | F133: marquer les accords dans le GN | G133: maîtriser l'orthographe lexicale | H133: distinguer l'infinitif et le part. passé
A134: ='Saisie résultat dictées'!B332 -> 0 | B134: ='Saisie résultat dictées'!C332 -> 0 | C134: ='Saisie résultat dictées'!D332 -> 0 | D134: ='Saisie résultat dictées'!E332 -> 0 | E134: ='Saisie résultat dictées'!F332 -> 0 | F134: ='Saisie résultat dictées'!G332 -> 0 | G134: ='Saisie résultat dictées'!H332 -> 0 | H134: ='Saisie résultat dictées'!I332 -> 0
A139: ='Saisie résultat dictées'!A349 -> ELEVE 13 Nom Prénom
A141: Votre enfant a passé une série de dictées afin d'évaluer ses points forts et ses faiblesses dans le domaine
A142: de l'orthographe. Il repassera ces dictées en juin et pourra ainsi mesurer ses progrès.
A143: Voici les pourcentages de réussite qu'il a obtenus.
A145: conjuguer au présent | B145: conjuguer au futur | C145: conjuguer à l'imparfait | D145: conjuguer au passé composé | E145: distinguer les mots homophones | F145: marquer les accords dans le GN | G145: maîtriser l'orthographe lexicale | H145: distinguer l'infinitif et le part. passé
A146: ='Saisie résultat dictées'!B361 -> 0 | B146: ='Saisie résultat dictées'!C361 -> 0 | C146: ='Saisie résultat dictées'!D361 -> 0 | D146: ='Saisie résultat dictées'!E361 -> 0 | E146: ='Saisie résultat dictées'!F361 -> 0 | F146: ='Saisie résultat dictées'!G361 -> 0 | G146: ='Saisie résultat dictées'!H361 -> 0 | H146: ='Saisie résultat dictées'!I361 -> 0
A150: ='Saisie résultat dictées'!A378 -> ELEVE 14 Nom Prénom
A152: Votre enfant a passé une série de dictées afin d'évaluer ses points forts et ses faiblesses dans le domaine
A153: de l'orthographe. Il repassera ces dictées en juin et pourra ainsi mesurer ses progrès.
A154: Voici les pourcentages de réussite qu'il a obtenus.
A156: conjuguer au présent | B156: conjuguer au futur | C156: conjuguer à l'imparfait | D156: conjuguer au passé composé | E156: distinguer les mots homophones | F156: marquer les accords dans le GN | G156: maîtriser l'orthographe lexicale | H156: distinguer l'infinitif et le part. passé
A157: ='Saisie résultat dictées'!B390 -> 0 | B157: ='Saisie résultat dictées'!C390 -> 0 | C157: ='Saisie résultat dictées'!D390 -> 0 | D157: ='Saisie résultat dictées'!E390 -> 0 | E157: ='Saisie résultat dictées'!F390 -> 0 | F157: ='Saisie résultat dictées'!G390 -> 0 | G157: ='Saisie résultat dictées'!H390 -> 0 | H157: ='Saisie résultat dictées'!I390 -> 0
A162: ='Saisie résultat dictées'!A407 -> ELEVE 15 Nom Prénom
A164: Votre enfant a passé une série de dictées afin d'évaluer ses points forts et ses faiblesses dans le domaine
A165: de l'orthographe. Il repassera ces dictées en juin et pourra ainsi mesurer ses progrès.
A166: Voici les pourcentages de réussite qu'il a obtenus.
A168: conjuguer au présent | B168: conjuguer au futur | C168: conjuguer à l'imparfait | D168: conjuguer au passé composé | E168: distinguer les mots homophones | F168: marquer les accords dans le GN | G168: maîtriser l'orthographe lexicale | H168: distinguer l'infinitif et le part. passé
A169: ='Saisie résultat dictées'!B419 -> 0 | B169: ='Saisie résultat dictées'!C419 -> 0 | C169: ='Saisie résultat dictées'!D419 -> 0 | D169: ='Saisie résultat dictées'!E419 -> 0 | E169: ='Saisie résultat dictées'!F419 -> 0 | F169: ='Saisie résultat dictées'!G419 -> 0 | G169: ='Saisie résultat dictées'!H419 -> 0 | H169: ='Saisie résultat dictées'!I419 -> 0
A173: ='Saisie résultat dictées'!A436 -> ELEVE 16 Nom Prénom
A175: Votre enfant a passé une série de dictées afin d'évaluer ses points forts et ses faiblesses dans le domaine
A176: de l'orthographe. Il repassera ces dictées en juin et pourra ainsi mesurer ses progrès.
A177: Voici les pourcentages de réussite qu'il a obtenus.
A179: conjuguer au présent | B179: conjuguer au futur | C179: conjuguer à l'imparfait | D179: conjuguer au passé composé | E179: distinguer les mots homophones | F179: marquer les accords dans le GN | G179: maîtriser l'orthographe lexicale | H179: distinguer l'infinitif et le part. passé
A180: ='Saisie résultat dictées'!B448 -> 0 | B180: ='Saisie résultat dictées'!C448 -> 0 | C180: ='Saisie résultat dictées'!D448 -> 0 | D180: ='Saisie résultat dictées'!E448 -> 0 | E180: ='Saisie résultat dictées'!F448 -> 0 | F180: ='Saisie résultat dictées'!G448 -> 0 | G180: ='Saisie résultat dictées'!H448 -> 0 | H180: ='Saisie résultat dictées'!I448 -> 0
A185: ='Saisie résultat dictées'!A465 -> ELEVE 17 Nom Prénom
A187: Votre enfant a passé une série de dictées afin d'évaluer ses points forts et ses faiblesses dans le domaine
A188: de l'orthographe. Il repassera ces dictées en juin et pourra ainsi mesurer ses progrès.
A189: Voici les pourcentages de réussite qu'il a obtenus.
...

Sheet Retour familles juin
A1: ='Saisie résultat dictées'!A1 -> ELEVE 1 Nom Prénom
A3: Votre enfant a passé une série de dictées afin d'évaluer ses points forts et ses faiblesses dans le domaine
A4: de l'orthographe. Il avait déjà réalisé ces dictées en septembre.
A5: Voici les pourcentages de réussite qu'il a obtenus ainsi que son évolution.
A7: conjuguer au présent | B7: conjuguer au futur | C7: conjuguer à l'imparfait | D7: conjuguer au passé composé | E7: distinguer les mots homophones | F7: marquer les accords dans le GN | G7: maîtriser l'orthographe lexicale | H7: conjuguer au présent | I7: distinguer l'infinitif et le part. passé
A8: ='Saisie résultat dictées'!B13 -> 0 | B8: ='Saisie résultat dictées'!C13 -> 0 | C8: ='Saisie résultat dictées'!D13 -> 0 | D8: ='Saisie résultat dictées'!E13 -> 0 | E8: ='Saisie résultat dictées'!F13 -> 0 | F8: ='Saisie résultat dictées'!G13 -> 0 | G8: ='Saisie résultat dictées'!H13 -> 0 | H8: ='Saisie résultat dictées'!I13 -> 0 | I8: ='Saisie résultat dictées'!J13 -> 0 | J8: Septembre
A9: ='Saisie résultat dictées'!B26 -> 0 | B9: ='Saisie résultat dictées'!C26 -> 0 | C9: ='Saisie résultat dictées'!D26 -> 0 | D9: ='Saisie résultat dictées'!E26 -> 0 | E9: ='Saisie résultat dictées'!F26 -> 0 | F9: ='Saisie résultat dictées'!G26 -> 0 | G9: ='Saisie résultat dictées'!H26 -> 0 | H9: ='Saisie résultat dictées'!I26 -> 0 | I9: ='Saisie résultat dictées'!J26 -> 0 | J9: Juin
A10: =A9-A8 -> 0 | B10: =B9-B8 -> 0 | C10: =C9-C8 -> 0 | D10: =D9-D8 -> 0 | E10: =E9-E8 -> 0 | F10: =F9-F8 -> 0 | G10: =G9-G8 -> 0 | H10: =H9-H8 -> 0 | I10: =I9-I8 -> 0 | J10: Evolution
A14: ='Saisie résultat dictées'!A30 -> ELEVE 2 Nom Prénom
A16: Votre enfant a passé une série de dictées afin d'évaluer ses points forts et ses faiblesses dans le domaine
A17: de l'orthographe. Il avait déjà réalisé ces dictées en septembre.
A18: Voici les pourcentages de réussite qu'il a obtenus ainsi que son évolution.
A20: conjuguer au présent | B20: conjuguer au futur | C20: conjuguer à l'imparfait | D20: conjuguer au passé composé | E20: distinguer les mots homophones | F20: marquer les accords dans le GN | G20: maîtriser l'orthographe lexicale | H20: conjuguer au présent | I20: distinguer l'infinitif et le part. passé
A21: ='Saisie résultat dictées'!B42 -> 0 | B21: ='Saisie résultat dictées'!C42 -> 0 | C21: ='Saisie résultat dictées'!D42 -> 0 | D21: ='Saisie résultat dictées'!E42 -> 0 | E21: ='Saisie résultat dictées'!F42 -> 0 | F21: ='Saisie résultat dictées'!G42 -> 0 | G21: ='Saisie résultat dictées'!H42 -> 0 | H21: ='Saisie résultat dictées'!I42 -> 0 | I21: ='Saisie résultat dictées'!J42 -> 0 | J21: Septembre
A22: ='Saisie résultat dictées'!B55 -> 0 | B22: ='Saisie résultat dictées'!C55 -> 0 | C22: ='Saisie résultat dictées'!D55 -> 0 | D22: ='Saisie résultat dictées'!E55 -> 0 | E22: ='Saisie résultat dictées'!F55 -> 0 | F22: ='Saisie résultat dictées'!G55 -> 0 | G22: ='Saisie résultat dictées'!H55 -> 0 | H22: ='Saisie résultat dictées'!I55 -> 0 | I22: ='Saisie résultat dictées'!J55 -> 0 | J22: Juin
A23: =A22-A21 -> 0 | B23: =B22-B21 -> 0 | C23: =C22-C21 -> 0 | D23: =D22-D21 -> 0 | E23: =E22-E21 -> 0 | F23: =F22-F21 -> 0 | G23: =G22-G21 -> 0 | H23: =H22-H21 -> 0 | I23: =I22-I21 -> 0 | J23: Evolution
A28: ='Saisie résultat dictées'!A59 -> ELEVE 3 Nom Prénom
A30: Votre enfant a passé une série de dictées afin d'évaluer ses points forts et ses faiblesses dans le domaine
A31: de l'orthographe. Il avait déjà réalisé ces dictées en septembre.
A32: Voici les pourcentages de réussite qu'il a obtenus ainsi que son évolution.
A34: conjuguer au présent | B34: conjuguer au futur | C34: conjuguer à l'imparfait | D34: conjuguer au passé composé | E34: distinguer les mots homophones | F34: marquer les accords dans le GN | G34: maîtriser l'orthographe lexicale | H34: conjuguer au présent | I34: distinguer l'infinitif et le part. passé
A35: ='Saisie résultat dictées'!B71 -> 0 | B35: ='Saisie résultat dictées'!C71 -> 0 | C35: ='Saisie résultat dictées'!D71 -> 0 | D35: ='Saisie résultat dictées'!E71 -> 0 | E35: ='Saisie résultat dictées'!F71 -> 0 | F35: ='Saisie résultat dictées'!G71 -> 0 | G35: ='Saisie résultat dictées'!H71 -> 0 | H35: ='Saisie résultat dictées'!I71 -> 0 | I35: ='Saisie résultat dictées'!J71 -> 0 | J35: Septembre
A36: ='Saisie résultat dictées'!B84 -> 0 | B36: ='Saisie résultat dictées'!C84 -> 0 | C36: ='Saisie résultat dictées'!D84 -> 0 | D36: ='Saisie résultat dictées'!E84 -> 0 | E36: ='Saisie résultat dictées'!F84 -> 0 | F36: ='Saisie résultat dictées'!G84 -> 0 | G36: ='Saisie résultat dictées'!H84 -> 0 | H36: ='Saisie résultat dictées'!I84 -> 0 | I36: ='Saisie résultat dictées'!J84 -> 0 | J36: Juin
A37: =A36-A35 -> 0 | B37: =B36-B35 -> 0 | C37: =C36-C35 -> 0 | D37: =D36-D35 -> 0 | E37: =E36-E35 -> 0 | F37: =F36-F35 -> 0 | G37: =G36-G35 -> 0 | H37: =H36-H35 -> 0 | I37: =I36-I35 -> 0 | J37: Evolution
A41: ='Saisie résultat dictées'!A88 -> ELEVE 4 Nom Prénom
A43: Votre enfant a passé une série de dictées afin d'évaluer ses points forts et ses faiblesses dans le domaine
A44: de l'orthographe. Il avait déjà réalisé ces dictées en septembre.
A45: Voici les pourcentages de réussite qu'il a obtenus ainsi que son évolution.
A47: conjuguer au présent | B47: conjuguer au futur | C47: conjuguer à l'imparfait | D47: conjuguer au passé composé | E47: distinguer les mots homophones | F47: marquer les accords dans le GN | G47: maîtriser l'orthographe lexicale | H47: conjuguer au présent | I47: distinguer l'infinitif et le part. passé
A48: ='Saisie résultat dictées'!B100 -> 0 | B48: ='Saisie résultat dictées'!C100 -> 0 | C48: ='Saisie résultat dictées'!D100 -> 0 | D48: ='Saisie résultat dictées'!E100 -> 0 | E48: ='Saisie résultat dictées'!F100 -> 0 | F48: ='Saisie résultat dictées'!G100 -> 0 | G48: ='Saisie résultat dictées'!H100 -> 0 | H48: ='Saisie résultat dictées'!I100 -> 0 | I48: ='Saisie résultat dictées'!J100 -> 0 | J48: Septembre
A49: ='Saisie résultat dictées'!B113 -> 0 | B49: ='Saisie résultat dictées'!C113 -> 0 | C49: ='Saisie résultat dictées'!D113 -> 0 | D49: ='Saisie résultat dictées'!E113 -> 0 | E49: ='Saisie résultat dictées'!F113 -> 0 | F49: ='Saisie résultat dictées'!G113 -> 0 | G49: ='Saisie résultat dictées'!H113 -> 0 | H49: ='Saisie résultat dictées'!I113 -> 0 | I49: ='Saisie résultat dictées'!J113 -> 0 | J49: Juin
A50: =A49-A48 -> 0 | B50: =B49-B48 -> 0 | C50: =C49-C48 -> 0 | D50: =D49-D48 -> 0 | E50: =E49-E48 -> 0 | F50: =F49-F48 -> 0 | G50: =G49-G48 -> 0 | H50: =H49-H48 -> 0 | I50: =I49-I48 -> 0 | J50: Evolution
A55: ='Saisie résultat dictées'!A117 -> ELEVE 5 Nom Prénom
A57: Votre enfant a passé une série de dictées afin d'évaluer ses points forts et ses faiblesses dans le domaine
A58: de l'orthographe. Il avait déjà réalisé ces dictées en septembre.
A59: Voici les pourcentages de réussite qu'il a obtenus ainsi que son évolution.
A61: conjuguer au présent | B61: conjuguer au futur | C61: conjuguer à l'imparfait | D61: conjuguer au passé composé | E61: distinguer les mots homophones | F61: marquer les accords dans le GN | G61: maîtriser l'orthographe lexicale | H61: conjuguer au présent | I61: distinguer l'infinitif et le part. passé
A62: ='Saisie résultat dictées'!B129 -> 0 | B62: ='Saisie résultat dictées'!C129 -> 0 | C62: ='Saisie résultat dictées'!D129 -> 0 | D62: ='Saisie résultat dictées'!E129 -> 0 | E62: ='Saisie résultat dictées'!F129 -> 0 | F62: ='Saisie résultat dictées'!G129 -> 0 | G62: ='Saisie résultat dictées'!H129 -> 0 | H62: ='Saisie résultat dictées'!I129 -> 0 | I62: ='Saisie résultat dictées'!J129 -> 0 | J62: Septembre
A63: ='Saisie résultat dictées'!B142 -> 0 | B63: ='Saisie résultat dictées'!C142 -> 0 | C63: ='Saisie résultat dictées'!D142 -> 0 | D63: ='Saisie résultat dictées'!E142 -> 0 | E63: ='Saisie résultat dictées'!F142 -> 0 | F63: ='Saisie résultat dictées'!G142 -> 0 | G63: ='Saisie résultat dictées'!H142 -> 0 | H63: ='Saisie résultat dictées'!I142 -> 0 | I63: ='Saisie résultat dictées'!J142 -> 0 | J63: Juin
A64: =A63-A62 -> 0 | B64: =B63-B62 -> 0 | C64: =C63-C62 -> 0 | D64: =D63-D62 -> 0 | E64: =E63-E62 -> 0 | F64: =F63-F62 -> 0 | G64: =G63-G62 -> 0 | H64: =H63-H62 -> 0 | I64: =I63-I62 -> 0 | J64: Evolution
A68: ='Saisie résultat dictées'!A146 -> ELEVE 6 Nom Prénom
A70: Votre enfant a passé une série de dictées afin d'évaluer ses points forts et ses faiblesses dans le domaine
A71: de l'orthographe. Il avait déjà réalisé ces dictées en septembre.
A72: Voici les pourcentages de réussite qu'il a obtenus ainsi que son évolution.
A74: conjuguer au présent | B74: conjuguer au futur | C74: conjuguer à l'imparfait | D74: conjuguer au passé composé | E74: distinguer les mots homophones | F74: marquer les accords dans le GN | G74: maîtriser l'orthographe lexicale | H74: conjuguer au présent | I74: distinguer l'infinitif et le part. passé
A75: ='Saisie résultat dictées'!B158 -> 0 | B75: ='Saisie résultat dictées'!C158 -> 0 | C75: ='Saisie résultat dictées'!D158 -> 0 | D75: ='Saisie résultat dictées'!E158 -> 0 | E75: ='Saisie résultat dictées'!F158 -> 0 | F75: ='Saisie résultat dictées'!G158 -> 0 | G75: ='Saisie résultat dictées'!H158 -> 0 | H75: ='Saisie résultat dictées'!I158 -> 0 | I75: ='Saisie résultat dictées'!J158 -> 0 | J75: Septembre
A76: ='Saisie résultat dictées'!B171 -> 0 | B76: ='Saisie résultat dictées'!C171 -> 0 | C76: ='Saisie résultat dictées'!D171 -> 0 | D76: ='Saisie résultat dictées'!E171 -> 0 | E76: ='Saisie résultat dictées'!F171 -> 0 | F76: ='Saisie résultat dictées'!G171 -> 0 | G76: ='Saisie résultat dictées'!H171 -> 0 | H76: ='Saisie résultat dictées'!I171 -> 0 | I76: ='Saisie résultat dictées'!J171 -> 0 | J76: Juin
A77: =A76-A75 -> 0 | B77: =B76-B75 -> 0 | C77: =C76-C75 -> 0 | D77: =D76-D75 -> 0 | E77: =E76-E75 -> 0 | F77: =F76-F75 -> 0 | G77: =G76-G75 -> 0 | H77: =H76-H75 -> 0 | I77: =I76-I75 -> 0 | J77: Evolution
A82: ='Saisie résultat dictées'!A175 -> ELEVE 7 Nom Prénom
A84: Votre enfant a passé une série de dictées afin d'évaluer ses points forts et ses faiblesses dans le domaine
A85: de l'orthographe. Il avait déjà réalisé ces dictées en septembre.
A86: Voici les pourcentages de réussite qu'il a obtenus ainsi que son évolution.
A88: conjuguer au présent | B88: conjuguer au futur | C88: conjuguer à l'imparfait | D88: conjuguer au passé composé | E88: distinguer les mots homophones | F88: marquer les accords dans le GN | G88: maîtriser l'orthographe lexicale | H88: conjuguer au présent | I88: distinguer l'infinitif et le part. passé
A89: ='Saisie résultat dictées'!B187 -> 0 | B89: ='Saisie résultat dictées'!C187 -> 0 | C89: ='Saisie résultat dictées'!D187 -> 0 | D89: ='Saisie résultat dictées'!E187 -> 0 | E89: ='Saisie résultat dictées'!F187 -> 0 | F89: ='Saisie résultat dictées'!G187 -> 0 | G89: ='Saisie résultat dictées'!H187 -> 0 | H89: ='Saisie résultat dictées'!I187 -> 0 | I89: ='Saisie résultat dictées'!J187 -> 0 | J89: Septembre
A90: ='Saisie résultat dictées'!B200 -> 0 | B90: ='Saisie résultat dictées'!C200 -> 0 | C90: ='Saisie résultat dictées'!D200 -> 0 | D90: ='Saisie résultat dictées'!E200 -> 0 | E90: ='Saisie résultat dictées'!F200 -> 0 | F90: ='Saisie résultat dictées'!G200 -> 0 | G90: ='Saisie résultat dictées'!H200 -> 0 | H90: ='Saisie résultat dictées'!I200 -> 0 | I90: ='Saisie résultat dictées'!J200 -> 0 | J90: Juin
A91: =A90-A89 -> 0 | B91: =B90-B89 -> 0 | C91: =C90-C89 -> 0 | D91: =D90-D89 -> 0 | E91: =E90-E89 -> 0 | F91: =F90-F89 -> 0 | G91: =G90-G89 -> 0 | H91: =H90-H89 -> 0 | I91: =I90-I89 -> 0 | J91: Evolution
A95: ='Saisie résultat dictées'!A204 -> ELEVE 8 Nom Prénom
A97: Votre enfant a passé une série de dictées afin d'évaluer ses points forts et ses faiblesses dans le domaine
A98: de l'orthographe. Il avait déjà réalisé ces dictées en septembre.
A99: Voici les pourcentages de réussite qu'il a obtenus ainsi que son évolution.
A101: conjuguer au présent | B101: conjuguer au futur | C101: conjuguer à l'imparfait | D101: conjuguer au passé composé | E101: distinguer les mots homophones | F101: marquer les accords dans le GN | G101: maîtriser l'orthographe lexicale | H101: conjuguer au présent | I101: distinguer l'infinitif et le part. passé
A102: ='Saisie résultat dictées'!B216 -> 0 | B102: ='Saisie résultat dictées'!C216 -> 0 | C102: ='Saisie résultat dictées'!D216 -> 0 | D102: ='Saisie résultat dictées'!E216 -> 0 | E102: ='Saisie résultat dictées'!F216 -> 0 | F102: ='Saisie résultat dictées'!G216 -> 0 | G102: ='Saisie résultat dictées'!H216 -> 0 | H102: ='Saisie résultat dictées'!I216 -> 0 | I102: ='Saisie résultat dictées'!J216 -> 0 | J102: Septembre
A103: ='Saisie résultat dictées'!B229 -> 0 | B103: ='Saisie résultat dictées'!C229 -> 0 | C103: ='Saisie résultat dictées'!D229 -> 0 | D103: ='Saisie résultat dictées'!E229 -> 0 | E103: ='Saisie résultat dictées'!F229 -> 0 | F103: ='Saisie résultat dictées'!G229 -> 0 | G103: ='Saisie résultat dictées'!H229 -> 0 | H103: ='Saisie résultat dictées'!I229 -> 0 | I103: ='Saisie résultat dictées'!J229 -> 0 | J103: Juin
A104: =A103-A102 -> 0 | B104: =B103-B102 -> 0 | C104: =C103-C102 -> 0 | D104: =D103-D102 -> 0 | E104: =E103-E102 -> 0 | F104: =F103-F102 -> 0 | G104: =G103-G102 -> 0 | H104: =H103-H102 -> 0 | I104: =I103-I102 -> 0 | J104: Evolution
A109: ='Saisie résultat dictées'!A233 -> ELEVE 9 Nom Prénom
A111: Votre enfant a passé une série de dictées afin d'évaluer ses points forts et ses faiblesses dans le domaine
A112: de l'orthographe. Il avait déjà réalisé ces dictées en septembre.
A113: Voici les pourcentages de réussite qu'il a obtenus ainsi que son évolution.
A115: conjuguer au présent | B115: conjuguer au futur | C115: conjuguer à l'imparfait | D115: conjuguer au passé composé | E115: distinguer les mots homophones | F115: marquer les accords dans le GN | G115: maîtriser l'orthographe lexicale | H115: conjuguer au présent | I115: distinguer l'infinitif et le part. passé
A116: ='Saisie résultat dictées'!B245 -> 0 | B116: ='Saisie résultat dictées'!C245 -> 0 | C116: ='Saisie résultat dictées'!D245 -> 0 | D116: ='Saisie résultat dictées'!E245 -> 0 | E116: ='Saisie résultat dictées'!F245 -> 0 | F116: ='Saisie résultat dictées'!G245 -> 0 | G116: ='Saisie résultat dictées'!H245 -> 0 | H116: ='Saisie résultat dictées'!I245 -> 0 | I116: ='Saisie résultat dictées'!J245 -> 0 | J116: Septembre
A117: ='Saisie résultat dictées'!B258 -> 0 | B117: ='Saisie résultat dictées'!C258 -> 0 | C117: ='Saisie résultat dictées'!D258 -> 0 | D117: ='Saisie résultat dictées'!E258 -> 0 | E117: ='Saisie résultat dictées'!F258 -> 0 | F117: ='Saisie résultat dictées'!G258 -> 0 | G117: ='Saisie résultat dictées'!H258 -> 0 | H117: ='Saisie résultat dictées'!I258 -> 0 | I117: ='Saisie résultat dictées'!J258 -> 0 | J117: Juin
A118: =A117-A116 -> 0 | B118: =B117-B116 -> 0 | C118: =C117-C116 -> 0 | D118: =D117-D116 -> 0 | E118: =E117-E116 -> 0 | F118: =F117-F116 -> 0 | G118: =G117-G116 -> 0 | H118: =H117-H116 -> 0 | I118: =I117-I116 -> 0 | J118: Evolution
A122: ='Saisie résultat dictées'!A262 -> ELEVE 10 Nom Prénom
A124: Votre enfant a passé une série de dictées afin d'évaluer ses points forts et ses faiblesses dans le domaine
A125: de l'orthographe. Il avait déjà réalisé ces dictées en septembre.
A126: Voici les pourcentages de réussite qu'il a obtenus ainsi que son évolution.
A128: conjuguer au présent | B128: conjuguer au futur | C128: conjuguer à l'imparfait | D128: conjuguer au passé composé | E128: distinguer les mots homophones | F128: marquer les accords dans le GN | G128: maîtriser l'orthographe lexicale | H128: conjuguer au présent | I128: distinguer l'infinitif et le part. passé
A129: ='Saisie résultat dictées'!B274 -> 0 | B129: ='Saisie résultat dictées'!C274 -> 0 | C129: ='Saisie résultat dictées'!D274 -> 0 | D129: ='Saisie résultat dictées'!E274 -> 0 | E129: ='Saisie résultat dictées'!F274 -> 0 | F129: ='Saisie résultat dictées'!G274 -> 0 | G129: ='Saisie résultat dictées'!H274 -> 0 | H129: ='Saisie résultat dictées'!I274 -> 0 | I129: ='Saisie résultat dictées'!J274 -> 0 | J129: Septembre
A130: ='Saisie résultat dictées'!B287 -> 0 | B130: ='Saisie résultat dictées'!C287 -> 0 | C130: ='Saisie résultat dictées'!D287 -> 0 | D130: ='Saisie résultat dictées'!E287 -> 0 | E130: ='Saisie résultat dictées'!F287 -> 0 | F130: ='Saisie résultat dictées'!G287 -> 0 | G130: ='Saisie résultat dictées'!H287 -> 0 | H130: ='Saisie résultat dictées'!I287 -> 0 | I130: ='Saisie résultat dictées'!J287 -> 0 | J130: Juin
A131: =A130-A129 -> 0 | B131: =B130-B129 -> 0 | C131: =C130-C129 -> 0 | D131: =D130-D129 -> 0 | E131: =E130-E129 -> 0 | F131: =F130-F129 -> 0 | G131: =G130-G129 -> 0 | H131: =H130-H129 -> 0 | I131: =I130-I129 -> 0 | J131: Evolution
A136: ='Saisie résultat dictées'!A291 -> ELEVE 11 Nom Prénom
A138: Votre enfant a passé une série de dictées afin d'évaluer ses points forts et ses faiblesses dans le domaine
A139: de l'orthographe. Il avait déjà réalisé ces dictées en septembre.
A140: Voici les pourcentages de réussite qu'il a obtenus ainsi que son évolution.
A142: conjuguer au présent | B142: conjuguer au futur | C142: conjuguer à l'imparfait | D142: conjuguer au passé composé | E142: distinguer les mots homophones | F142: marquer les accords dans le GN | G142: maîtriser l'orthographe lexicale | H142: conjuguer au présent | I142: distinguer l'infinitif et le part. passé
A143: ='Saisie résultat dictées'!B303 -> 0 | B143: ='Saisie résultat dictées'!C303 -> 0 | C143: ='Saisie résultat dictées'!D303 -> 0 | D143: ='Saisie résultat dictées'!E303 -> 0 | E143: ='Saisie résultat dictées'!F303 -> 0 | F143: ='Saisie résultat dictées'!G303 -> 0 | G143: ='Saisie résultat dictées'!H303 -> 0 | H143: ='Saisie résultat dictées'!I303 -> 0 | I143: ='Saisie résultat dictées'!J303 -> 0 | J143: Septembre
A144: ='Saisie résultat dictées'!B316 -> 0 | B144: ='Saisie résultat dictées'!C316 -> 0 | C144: ='Saisie résultat dictées'!D316 -> 0 | D144: ='Saisie résultat dictées'!E316 -> 0 | E144: ='Saisie résultat dictées'!F316 -> 0 | F144: ='Saisie résultat dictées'!G316 -> 0 | G144: ='Saisie résultat dictées'!H316 -> 0 | H144: ='Saisie résultat dictées'!I316 -> 0 | I144: ='Saisie résultat dictées'!J316 -> 0 | J144: Juin
A145: =A144-A143 -> 0 | B145: =B144-B143 -> 0 | C145: =C144-C143 -> 0 | D145: =D144-D143 -> 0 | E145: =E144-E143 -> 0 | F145: =F144-F143 -> 0 | G145: =G144-G143 -> 0 | H145: =H144-H143 -> 0 | I145: =I144-I143 -> 0 | J145: Evolution
A149: ='Saisie résultat dictées'!A320 -> ELEVE 12 Nom Prénom
A151: Votre enfant a passé une série de dictées afin d'évaluer ses points forts et ses faiblesses dans le domaine
A152: de l'orthographe. Il avait déjà réalisé ces dictées en septembre.
A153: Voici les pourcentages de réussite qu'il a obtenus ainsi que son évolution.
A155: conjuguer au présent | B155: conjuguer au futur | C155: conjuguer à l'imparfait | D155: conjuguer au passé composé | E155: distinguer les mots homophones | F155: marquer les accords dans le GN | G155: maîtriser l'orthographe lexicale | H155: conjuguer au présent | I155: distinguer l'infinitif et le part. passé
A156: ='Saisie résultat dictées'!B332 -> 0 | B156: ='Saisie résultat dictées'!C332 -> 0 | C156: ='Saisie résultat dictées'!D332 -> 0 | D156: ='Saisie résultat dictées'!E332 -> 0 | E156: ='Saisie résultat dictées'!F332 -> 0 | F156: ='Saisie résultat dictées'!G332 -> 0 | G156: ='Saisie résultat dictées'!H332 -> 0 | H156: ='Saisie résultat dictées'!I332 -> 0 | I156: ='Saisie résultat dictées'!J332 -> 0 | J156: Septembre
A157: ='Saisie résultat dictées'!B345 -> 0 | B157: ='Saisie résultat dictées'!C345 -> 0 | C157: ='Saisie résultat dictées'!D345 -> 0 | D157: ='Saisie résultat dictées'!E345 -> 0 | E157: ='Saisie résultat dictées'!F345 -> 0 | F157: ='Saisie résultat dictées'!G345 -> 0 | G157: ='Saisie résultat dictées'!H345 -> 0 | H157: ='Saisie résultat dictées'!I345 -> 0 | I157: ='Saisie résultat dictées'!J345 -> 0 | J157: Juin
A158: =A157-A156 -> 0 | B158: =B157-B156 -> 0 | C158: =C157-C156 -> 0 | D158: =D157-D156 -> 0 | E158: =E157-E156 -> 0 | F158: =F157-F156 -> 0 | G158: =G157-G156 -> 0 | H158: =H157-H156 -> 0 | I158: =I157-I156 -> 0 | J158: Evolution
A163: ='Saisie résultat dictées'!A349 -> ELEVE 13 Nom Prénom
A165: Votre enfant a passé une série de dictées afin d'évaluer ses points forts et ses faiblesses dans le domaine
A166: de l'orthographe. Il avait déjà réalisé ces dictées en septembre.
A167: Voici les pourcentages de réussite qu'il a obtenus ainsi que son évolution.
...
